BEGIN:VCALENDAR
VERSION:2.0
PRODID:-//Junge GPOH - ECPv6.15.11//NONSGML v1.0//EN
CALSCALE:GREGORIAN
METHOD:PUBLISH
X-WR-CALNAME:Junge GPOH
X-ORIGINAL-URL:https://jgpoh.de
X-WR-CALDESC:Veranstaltungen für Junge GPOH
REFRESH-INTERVAL;VALUE=DURATION:PT1H
X-Robots-Tag:noindex
X-PUBLISHED-TTL:PT1H
BEGIN:VTIMEZONE
TZID:Europe/Berlin
BEGIN:DAYLIGHT
TZOFFSETFROM:+0100
TZOFFSETTO:+0200
TZNAME:CEST
DTSTART:20240331T010000
END:DAYLIGHT
BEGIN:STANDARD
TZOFFSETFROM:+0200
TZOFFSETTO:+0100
TZNAME:CET
DTSTART:20241027T010000
END:STANDARD
BEGIN:DAYLIGHT
TZOFFSETFROM:+0100
TZOFFSETTO:+0200
TZNAME:CEST
DTSTART:20250330T010000
END:DAYLIGHT
BEGIN:STANDARD
TZOFFSETFROM:+0200
TZOFFSETTO:+0100
TZNAME:CET
DTSTART:20251026T010000
END:STANDARD
BEGIN:DAYLIGHT
TZOFFSETFROM:+0100
TZOFFSETTO:+0200
TZNAME:CEST
DTSTART:20260329T010000
END:DAYLIGHT
BEGIN:STANDARD
TZOFFSETFROM:+0200
TZOFFSETTO:+0100
TZNAME:CET
DTSTART:20261025T010000
END:STANDARD
END:VTIMEZONE
BEGIN:VEVENT
DTSTART;VALUE=DATE:20251121
DTEND;VALUE=DATE:20251123
DTSTAMP:20260421T135602
CREATED:20250927T145930Z
LAST-MODIFIED:20250927T150936Z
UID:2022-1763683200-1763855999@jgpoh.de
SUMMARY:99. Wissenschaftliche Tagung der GPOH
DESCRIPTION:GPOH Jahrestagung und Mitgliederversammlung 2026.
URL:https://jgpoh.de/termin/99-wissenschaftliche-tagung-der-gpoh/
LOCATION:KARL STORZ SE & Co. KG Besucher- und Schulungszentrum Berlin\, Scharnhorststraße 3\, Berlin\, 10115\, Germany
ATTACH;FMTTYPE=image/webp:https://jgpoh.de/wp-content/uploads/2025/09/3347076_rdax_70.webp
END:VEVENT
END:VCALENDAR