BEGIN:VCALENDAR
VERSION:2.0
PRODID:-//Junge GPOH - ECPv6.15.11//NONSGML v1.0//EN
CALSCALE:GREGORIAN
METHOD:PUBLISH
X-WR-CALNAME:Junge GPOH
X-ORIGINAL-URL:https://jgpoh.de
X-WR-CALDESC:Veranstaltungen für Junge GPOH
REFRESH-INTERVAL;VALUE=DURATION:PT1H
X-Robots-Tag:noindex
X-PUBLISHED-TTL:PT1H
BEGIN:VTIMEZONE
TZID:Europe/Berlin
BEGIN:DAYLIGHT
TZOFFSETFROM:+0100
TZOFFSETTO:+0200
TZNAME:CEST
DTSTART:20230326T010000
END:DAYLIGHT
BEGIN:STANDARD
TZOFFSETFROM:+0200
TZOFFSETTO:+0100
TZNAME:CET
DTSTART:20231029T010000
END:STANDARD
BEGIN:DAYLIGHT
TZOFFSETFROM:+0100
TZOFFSETTO:+0200
TZNAME:CEST
DTSTART:20240331T010000
END:DAYLIGHT
BEGIN:STANDARD
TZOFFSETFROM:+0200
TZOFFSETTO:+0100
TZNAME:CET
DTSTART:20241027T010000
END:STANDARD
BEGIN:DAYLIGHT
TZOFFSETFROM:+0100
TZOFFSETTO:+0200
TZNAME:CEST
DTSTART:20250330T010000
END:DAYLIGHT
BEGIN:STANDARD
TZOFFSETFROM:+0200
TZOFFSETTO:+0100
TZNAME:CET
DTSTART:20251026T010000
END:STANDARD
END:VTIMEZONE
BEGIN:VEVENT
DTSTART;VALUE=DATE:20241129
DTEND;VALUE=DATE:20241201
DTSTAMP:20260423T130236
CREATED:20240920T172632Z
LAST-MODIFIED:20240920T172632Z
UID:1230-1732838400-1733011199@jgpoh.de
SUMMARY:9th International Tuebingen Symposium on Pediatric Solid Tumors
DESCRIPTION:Dear colleagues and friends\,\n\n\nwelcome to the 9th International Tuebingen Symposium on Pediatric Solid Tumors „Innovations and Advances in Treatment of Rare Solid Tumors“. As in previous years we are delighted to welcome physicians and scientists from all over the world in Tuebingen. \nAmong solid tumors in children\, pancreatic tumors\, tumors in the ear\, nose and throat area\, endocrine tumors\, NUT carcinoma\, and DICER-1-driven tumors hold a particular status. For a long time\, children and adolescents with rare tumors could not benefit from the successes of recent decades in the treatment of cancer. It is not only their rarity that emphasize the need for accumulation of knowledge through international networking and profound cooperation between the different specializations. Many of these tumors are so called adult type cancers\, occurring rarely in children\, however often presenting with different biology and clinical characteristics. \nAs it has become a tradition for our meeting\, leading international experts on pediatric rare solid tumors (Oncology\, Surgery\, Radiology\, Pathology\, Radio-Oncology\, and Biology) will be present at the 9th Tuebingen Symposium. Their contributions will ensure an outstanding scientific value of the event. Over the years the Tuebingen Symposium on Pediatric Solid Tumors has become recognized as a comprehensive and sustainable meeting\, characterized not only by its scientific standard based on an interdisciplinary and international approach\, but also by its character and the cordial atmosphere at the different social events. We are looking forward to an exciting meeting with fruitful discussions and new insights into the field of rare solid tumors. \nProf. Jörg Fuchs & Prof. Johannes Schulte & PD Dr. Ines Brecht & PD Dr. Andreas Schmidt\nCongress Chairs
URL:https://jgpoh.de/termin/9th-international-tuebingen-symposium-on-pediatric-solid-tumors/
LOCATION:Kinderklinik Tübingen\, Hoppe-Seyler-Str. 3\, Tübingen\, 72076\, Germany
ATTACH;FMTTYPE=image/jpeg:https://jgpoh.de/wp-content/uploads/2024/09/Solid_Tumors_Home_dt.jpg
END:VEVENT
END:VCALENDAR