BEGIN:VCALENDAR
VERSION:2.0
PRODID:-//Junge GPOH - ECPv6.15.11//NONSGML v1.0//EN
CALSCALE:GREGORIAN
METHOD:PUBLISH
X-WR-CALNAME:Junge GPOH
X-ORIGINAL-URL:https://jgpoh.de
X-WR-CALDESC:Veranstaltungen für Junge GPOH
REFRESH-INTERVAL;VALUE=DURATION:PT1H
X-Robots-Tag:noindex
X-PUBLISHED-TTL:PT1H
BEGIN:VTIMEZONE
TZID:Europe/Berlin
BEGIN:DAYLIGHT
TZOFFSETFROM:+0100
TZOFFSETTO:+0200
TZNAME:CEST
DTSTART:20240331T010000
END:DAYLIGHT
BEGIN:STANDARD
TZOFFSETFROM:+0200
TZOFFSETTO:+0100
TZNAME:CET
DTSTART:20241027T010000
END:STANDARD
BEGIN:DAYLIGHT
TZOFFSETFROM:+0100
TZOFFSETTO:+0200
TZNAME:CEST
DTSTART:20250330T010000
END:DAYLIGHT
BEGIN:STANDARD
TZOFFSETFROM:+0200
TZOFFSETTO:+0100
TZNAME:CET
DTSTART:20251026T010000
END:STANDARD
BEGIN:DAYLIGHT
TZOFFSETFROM:+0100
TZOFFSETTO:+0200
TZNAME:CEST
DTSTART:20260329T010000
END:DAYLIGHT
BEGIN:STANDARD
TZOFFSETFROM:+0200
TZOFFSETTO:+0100
TZNAME:CET
DTSTART:20261025T010000
END:STANDARD
END:VTIMEZONE
BEGIN:VEVENT
DTSTART;VALUE=DATE:20251128
DTEND;VALUE=DATE:20251130
DTSTAMP:20260423T115741
CREATED:20250626T112214Z
LAST-MODIFIED:20250626T112214Z
UID:1953-1764288000-1764460799@jgpoh.de
SUMMARY:Childhood Cancer Causes: The Role of Genetic Predisposition
DESCRIPTION:The Course covers topics including:\n\nPredisposition to cancer\nRole of genetic tests and their relevance for the clinicians\nGermline findings and interpretation of the test results\nPharmacogenetics\nTreatment modifications\nGenetic counseling and follow up\n\n\nWho should attend?\n\nFellows in paediatric haematology and oncology or junior faculty at academic medical centres from across Europe.\n\n\nWhat makes this course unique?\n\nYou will discuss real-life cases\, situations\, and patient management.\nYou will meet other professionals interested in cancer causes and genetic predisposition.\nUpon completion of the Course\, you will receive a certificate of attendance and CME credits (to be confirmed).
URL:https://jgpoh.de/termin/childhood-cancer-causes-the-role-of-genetic-predisposition/
LOCATION:Online
ATTACH;FMTTYPE=image/png:https://jgpoh.de/wp-content/uploads/2024/10/events_siope-course-e1727905042778.png
END:VEVENT
END:VCALENDAR