BEGIN:VCALENDAR
VERSION:2.0
PRODID:-//Junge GPOH - ECPv6.15.11//NONSGML v1.0//EN
CALSCALE:GREGORIAN
METHOD:PUBLISH
X-WR-CALNAME:Junge GPOH
X-ORIGINAL-URL:https://jgpoh.de
X-WR-CALDESC:Veranstaltungen für Junge GPOH
REFRESH-INTERVAL;VALUE=DURATION:PT1H
X-Robots-Tag:noindex
X-PUBLISHED-TTL:PT1H
BEGIN:VTIMEZONE
TZID:Europe/Berlin
BEGIN:DAYLIGHT
TZOFFSETFROM:+0100
TZOFFSETTO:+0200
TZNAME:CEST
DTSTART:20240331T010000
END:DAYLIGHT
BEGIN:STANDARD
TZOFFSETFROM:+0200
TZOFFSETTO:+0100
TZNAME:CET
DTSTART:20241027T010000
END:STANDARD
BEGIN:DAYLIGHT
TZOFFSETFROM:+0100
TZOFFSETTO:+0200
TZNAME:CEST
DTSTART:20250330T010000
END:DAYLIGHT
BEGIN:STANDARD
TZOFFSETFROM:+0200
TZOFFSETTO:+0100
TZNAME:CET
DTSTART:20251026T010000
END:STANDARD
BEGIN:DAYLIGHT
TZOFFSETFROM:+0100
TZOFFSETTO:+0200
TZNAME:CEST
DTSTART:20260329T010000
END:DAYLIGHT
BEGIN:STANDARD
TZOFFSETFROM:+0200
TZOFFSETTO:+0100
TZNAME:CET
DTSTART:20261025T010000
END:STANDARD
END:VTIMEZONE
BEGIN:VEVENT
DTSTART;TZID=Europe/Berlin:20250523T093000
DTEND;TZID=Europe/Berlin:20250523T170000
DTSTAMP:20260421T134013
CREATED:20250403T181829Z
LAST-MODIFIED:20250403T181829Z
UID:1942-1747992600-1748019600@jgpoh.de
SUMMARY:Pädiatrisches Symposium Neuroblastom & Sarkom heute
DESCRIPTION:b4c_Flyer_210x297mm_23_05_2025_Paed_Symp_NB_Sarkom_Tuebingen_v05
URL:https://jgpoh.de/termin/paediatrisches-symposium-neuroblastom-sarkom-heute/
LOCATION:Kinderklinik Tübingen\, Hoppe-Seyler-Str. 3\, Tübingen\, 72076\, Germany
END:VEVENT
END:VCALENDAR