BEGIN:VCALENDAR
VERSION:2.0
PRODID:-//Junge GPOH - ECPv6.15.11//NONSGML v1.0//EN
CALSCALE:GREGORIAN
METHOD:PUBLISH
X-WR-CALNAME:Junge GPOH
X-ORIGINAL-URL:https://jgpoh.de
X-WR-CALDESC:Veranstaltungen für Junge GPOH
REFRESH-INTERVAL;VALUE=DURATION:PT1H
X-Robots-Tag:noindex
X-PUBLISHED-TTL:PT1H
BEGIN:VTIMEZONE
TZID:Europe/Berlin
BEGIN:DAYLIGHT
TZOFFSETFROM:+0100
TZOFFSETTO:+0200
TZNAME:CEST
DTSTART:20250330T010000
END:DAYLIGHT
BEGIN:STANDARD
TZOFFSETFROM:+0200
TZOFFSETTO:+0100
TZNAME:CET
DTSTART:20251026T010000
END:STANDARD
BEGIN:DAYLIGHT
TZOFFSETFROM:+0100
TZOFFSETTO:+0200
TZNAME:CEST
DTSTART:20260329T010000
END:DAYLIGHT
BEGIN:STANDARD
TZOFFSETFROM:+0200
TZOFFSETTO:+0100
TZNAME:CET
DTSTART:20261025T010000
END:STANDARD
BEGIN:DAYLIGHT
TZOFFSETFROM:+0100
TZOFFSETTO:+0200
TZNAME:CEST
DTSTART:20270328T010000
END:DAYLIGHT
BEGIN:STANDARD
TZOFFSETFROM:+0200
TZOFFSETTO:+0100
TZNAME:CET
DTSTART:20271031T010000
END:STANDARD
END:VTIMEZONE
BEGIN:VEVENT
DTSTART;VALUE=DATE:20260626
DTEND;VALUE=DATE:20260628
DTSTAMP:20260420T041052
CREATED:20251014T132447Z
LAST-MODIFIED:20251014T132447Z
UID:2056-1782432000-1782604799@jgpoh.de
SUMMARY:Summer Training Course Infektionsmanagement Pädiatrische Onkologie und HZT
DESCRIPTION:Intensivkurs für Assistenz- und Fachärzte \nFormat: Strukturiert\, handlungsorientiert\, interaktiv; elektronische Handouts \nInhalte: Grundlagen\, Diagnostik\, Fieber bei Neutropenie\, bakterielle Infektionen\, Pilzinfektionen\, Virusinfektionen; Pharmakologie antimikrobieller Substanzen\, Infektionsprävention\, Immunmodulation und Impfungen \nAdressaten: Fachärzte in Weiterbildung zum bzw. mit Schwerpunkt Kinderonkologie\nund Assistenzärzte\, die den Schwerpunkt anstreben \nWissenschaftliche Leitung u. Koordination:\nDr. Daniel Ebrahimi-Fakhari\, Münster\nunter Mitarbeit von PD Dr. Konrad Bochennek\, Frankfurt\, Prof. Frieder Schaumburg\, Münster\, Prof. Thomas Lehrnbecher\, Frankfurt und Prof. Andreas H. Groll \nDie Veranstaltung richtet sich an medizinisches Fachpersonal.\nEine Anmeldung bis zum 12.06.2026 ist erforderlich\, da die Teilnehmerzahl begrenzt ist.
URL:https://jgpoh.de/termin/summer-training-course-infektionsmanagement-paediatrische-onkologie-und-hzt/
LOCATION:Uniklinikum Münster\, Tondernstraße 15-17\, Münster\, 48149
ATTACH;FMTTYPE=image/jpeg:https://jgpoh.de/wp-content/uploads/2024/09/masakazu-sasaki-jKcekGtpJVY-unsplash.jpg
END:VEVENT
END:VCALENDAR